BEGIN:VCALENDAR
VERSION:2.0
PRODID:-//Associazione Ambientalista Eugenio Rosmann Monfalcone - ECPv6.15.17.1//NONSGML v1.0//EN
CALSCALE:GREGORIAN
METHOD:PUBLISH
X-WR-CALNAME:Associazione Ambientalista Eugenio Rosmann Monfalcone
X-ORIGINAL-URL:https://ambientalistimonfalcone.it
X-WR-CALDESC:Eventi per Associazione Ambientalista Eugenio Rosmann Monfalcone
REFRESH-INTERVAL;VALUE=DURATION:PT1H
X-Robots-Tag:noindex
X-PUBLISHED-TTL:PT1H
BEGIN:VTIMEZONE
TZID:UTC
BEGIN:STANDARD
TZOFFSETFROM:+0000
TZOFFSETTO:+0000
TZNAME:UTC
DTSTART:20160101T000000
END:STANDARD
END:VTIMEZONE
BEGIN:VTIMEZONE
TZID:Europe/Rome
BEGIN:DAYLIGHT
TZOFFSETFROM:+0100
TZOFFSETTO:+0200
TZNAME:CEST
DTSTART:20160327T010000
END:DAYLIGHT
BEGIN:STANDARD
TZOFFSETFROM:+0200
TZOFFSETTO:+0100
TZNAME:CET
DTSTART:20161030T010000
END:STANDARD
BEGIN:DAYLIGHT
TZOFFSETFROM:+0100
TZOFFSETTO:+0200
TZNAME:CEST
DTSTART:20170326T010000
END:DAYLIGHT
BEGIN:STANDARD
TZOFFSETFROM:+0200
TZOFFSETTO:+0100
TZNAME:CET
DTSTART:20171029T010000
END:STANDARD
BEGIN:DAYLIGHT
TZOFFSETFROM:+0100
TZOFFSETTO:+0200
TZNAME:CEST
DTSTART:20180325T010000
END:DAYLIGHT
BEGIN:STANDARD
TZOFFSETFROM:+0200
TZOFFSETTO:+0100
TZNAME:CET
DTSTART:20181028T010000
END:STANDARD
END:VTIMEZONE
BEGIN:VEVENT
DTSTART;TZID=UTC:20170520T110000
DTEND;TZID=UTC:20170520T120000
DTSTAMP:20260425T182708
CREATED:20170519T065254Z
LAST-MODIFIED:20170519T065254Z
UID:553-1495278000-1495281600@ambientalistimonfalcone.it
SUMMARY:Escursione (breve) a Pietrarossa
DESCRIPTION:Nell’ambito della Giornata del volontariato\, che si svolgerà presso il Centro visite Pietrarossa\, sabato 20 maggio alle ore 11.00 l’Associazione Ambientalista Eugenio Rosmann propone una breve escursione alla scoperta delle valenze naturalistiche dell’area. Guida naturalistica Paolo Utmar (ornitologo). L’escursione avrà la durata di circa un’ora. La partecipazione è libera\, consigliate scarpe sportive. \nSabato 20/5\, presso il centro visite Pietrarossa\, dalle 10.00 alle 18.00 troverete i banchetti informativi di diverse associazioni di volontariato\, momenti di dibattito e musica\, esposizioni artistiche (Barban\, Leban\, Valcovich) e una mostra-mercatino di prodotti tipici. \nCOME ARRIVARE AL CENTRO VISITE PIETRAROSSA \n  \nDomenica 21/5 proseguirà il mercatino e si terrà la tradizionale MARCIA DEL SOMMACO. \n  \n 
URL:https://ambientalistimonfalcone.it/evento/escursione-breve-a-pietrarossa/
LOCATION:Centro visite lago di Pietrarossa\, Zona Carsica Lago di Pietrarossa\, Monfalcone\, (GO)\, 34074\, Italia
END:VEVENT
BEGIN:VEVENT
DTSTART;TZID=UTC:20170518T080000
DTEND;TZID=UTC:20170518T170000
DTSTAMP:20260425T182708
CREATED:20170519T163035Z
LAST-MODIFIED:20170519T062308Z
UID:548-1495094400-1495126800@ambientalistimonfalcone.it
SUMMARY:Fogliano supermercato? NO GRAZIE!
DESCRIPTION:Il Comitato spontaneo volontario “Fogliano Supermercato? No grazie!” promuove un incontro pubblico VENERDI’ 19 MAGGIO ALLE ORE 18.30 presso l’Agriturismo Le Giarine\, via dei Campi\, 4 a Fogliano. \nNell’area dell’ex sovrapasso ferroviario\, con la delibera di giunta n. 45 del 3/5/2017\, è stato dato il via libera alla costruzione di un nuovo supermercato di 1.500 mq. \nParteciperà l’urbanista Gianluca De Vido\, già responsabile territorio del WWF FVG.
URL:https://ambientalistimonfalcone.it/evento/fogliano-supermercato-no-grazie/
END:VEVENT
BEGIN:VEVENT
DTSTART;TZID=UTC:20170514T093000
DTEND;TZID=UTC:20170514T123000
DTSTAMP:20260425T182708
CREATED:20170407T133435Z
LAST-MODIFIED:20170407T134350Z
UID:505-1494754200-1494765000@ambientalistimonfalcone.it
SUMMARY:Fioriture nelle aree umide di Pietrarossa con il prof Poldini
DESCRIPTION:Con questa visita ci si propone di osservare l’apice di unicità del Carso isontino che è dato dal complesso delle aree umide sia dei luoghi carsici alimentati da sorgenti lemnocreniche sia da quelli delle praterie umide o paludose alimentate da risorgive elocreniche. Nell’escursine visiteremo il primo tipo\, già individuato negli anni 70 nel progetto di Parco carsico di valenza nazionale\, mai realizzato per mancanza della normativa di applicazione. Oltre ad essere degli scrigni di biodiversità\, questi ambienti hanno dato origine a degli studi ancora in corso\, che stanno mettendo in luce una serie di preziosissimi boschi igrofili\, non ancora descritti ma in fase di studio\, ma già gravemente compromessi da pianti invasive (ailanto\, amorfa\, senecione sudafricano\, ecc.)\, nonchè minacciati dall’allargamento del casello del Lisert.
URL:https://ambientalistimonfalcone.it/evento/fioriture-nelle-aree-umide-di-pietrarossa-con-il-prof-poldini/
LOCATION:Centro visite lago di Pietrarossa\, Zona Carsica Lago di Pietrarossa\, Monfalcone\, (GO)\, 34074\, Italia
END:VEVENT
BEGIN:VEVENT
DTSTART;TZID=UTC:20170507T093000
DTEND;TZID=UTC:20170507T123000
DTSTAMP:20260425T182708
CREATED:20170413T145701Z
LAST-MODIFIED:20170413T145701Z
UID:519-1494149400-1494160200@ambientalistimonfalcone.it
SUMMARY:Escursione sulla avifauna/fauna della landa carsica
DESCRIPTION:La visita guidata con l’ornitologo e guida naturalistica Paolo Utmar é una attività che si inserisce nella promozione delle valenze naturalistiche del centro visite Lago di Pietrarossa di Monfalcone. L’escursione vedrà i prati carsici e la landa carsica che costeggia la riserva regionale naturale Laghi di Doberdò e Pietrarossa. Appuntamento di domenica 7 maggio\, per chi parte da Monfalcone è alle ore 9.00 davanti il negozio Casa di Bice\, angolo viale san Marco\, via Toti e Corso del Popolo per poi trovarsi con tutti alle ore 9.30 al centro visite lago di Pietrarossa. Si consigliano scarpe comode e abbigliamento sportivo.
URL:https://ambientalistimonfalcone.it/evento/escursione-sulla-avifaunafauna-della-landa-carsica/
LOCATION:Centro visite lago di Pietrarossa\, Zona Carsica Lago di Pietrarossa\, Monfalcone\, (GO)\, 34074\, Italia
END:VEVENT
BEGIN:VEVENT
DTSTART;TZID=Europe/Rome:20170409T093000
DTEND;TZID=Europe/Rome:20170409T123000
DTSTAMP:20260425T182708
CREATED:20170407T130913Z
LAST-MODIFIED:20170407T130913Z
UID:494-1491730200-1491741000@ambientalistimonfalcone.it
SUMMARY:Escursione per vedere le fioriture dei prati del Carso Monfalconese
DESCRIPTION:La gita sui prati del Friuli Venezia Giulia si terrà nella giornata di domenica 09/04/2017 alle ore 9.00 all’incrocio tra Viale San Marco\, via Toti e Corso del Popolo per chi vuole partire a piedi da Monfalcone e un secondo appuntamento davanti al centro Visite Lago di Pietrarossa alle ore 9.30\, Centro raggiungibile in auto da Selz di Ronchi dei Legionari. La visita sarà guidata dal dott.nat. Roberto Pizzutti – botanico e presidente del GREF – Gruppo Ricerca e Esplorazione Floristica del Friuli Venezia Giulia di Udine . Si andrà alla ricerca di fioriture sui prati carsici\, nella Riserva regionale di Doberdò e Pietrarossa. Le iniziative sono organizzate nell’ambito delle iniziative culturali del Centro Visite Lago di Pietrarossa e in occasione della festa dei Fiori di Monfalcone.
URL:https://ambientalistimonfalcone.it/evento/escursione-per-vedere-le-fioriture-dei-prati-del-carso-monfalconese/
LOCATION:Centro visite lago di Pietrarossa\, Zona Carsica Lago di Pietrarossa\, Monfalcone\, (GO)\, 34074\, Italia
END:VEVENT
END:VCALENDAR