BEGIN:VCALENDAR
VERSION:2.0
PRODID:-//Associazione Ambientalista Eugenio Rosmann Monfalcone - ECPv6.15.17.1//NONSGML v1.0//EN
CALSCALE:GREGORIAN
METHOD:PUBLISH
X-ORIGINAL-URL:https://ambientalistimonfalcone.it
X-WR-CALDESC:Eventi per Associazione Ambientalista Eugenio Rosmann Monfalcone
REFRESH-INTERVAL;VALUE=DURATION:PT1H
X-Robots-Tag:noindex
X-PUBLISHED-TTL:PT1H
BEGIN:VTIMEZONE
TZID:UTC
BEGIN:STANDARD
TZOFFSETFROM:+0000
TZOFFSETTO:+0000
TZNAME:UTC
DTSTART:20170101T000000
END:STANDARD
END:VTIMEZONE
BEGIN:VEVENT
DTSTART;TZID=UTC:20180801T203000
DTEND;TZID=UTC:20180801T213000
DTSTAMP:20260425T052037
CREATED:20180729T104456Z
LAST-MODIFIED:20180729T104456Z
UID:1073-1533155400-1533159000@ambientalistimonfalcone.it
SUMMARY:Riunione organizzativa sede associazione
DESCRIPTION:Carissime/i\, \nvogliamo invitarvi ad un incontro nella nostra sede di via Valentinis\, 134 a Monfalcone (con ingresso dal cancello di via delle Mandrie)\, mercoledì 1° agosto alle 20.30\, per aggiornarci sulle attività in corso\, pianificare le prossime iniziative e ascoltare le vostre proposte. \nCon questo incontro é fissato il primo mercoledì del mese\, così da avere un momento fisso di incontro tra soci\, simpatizzanti e amici vecchi e nuovi. In caso di festività si slitta al mercoledi successivo. \n\nConfidando nella vostra presenza\, almeno di chi non è in vacanza\, vi salutiamo cordialmente\, e vi alleghiamo l’articolo su come hanno fatto in Veneto a gestire i lupi presenti per difendere le greggi e l’allevamento. Speriamo che sia da riferimento anche per la nostra Regione!
URL:https://ambientalistimonfalcone.it/evento/riunione-organizzativa-sede-associazione/
LOCATION:sede Associazione – via Valentinis\, 134 (ingresso via delle Mandrie)\,  via Valentinis\, 134 (ingresso via delle Mandrie)\, Monfalcone
ATTACH;FMTTYPE=image/jpeg:https://ambientalistimonfalcone.it/wp-content/uploads/2018/07/is.jpeg
END:VEVENT
END:VCALENDAR