BEGIN:VCALENDAR
VERSION:2.0
PRODID:-//Associazione Ambientalista Eugenio Rosmann Monfalcone - ECPv6.15.17.1//NONSGML v1.0//EN
CALSCALE:GREGORIAN
METHOD:PUBLISH
X-WR-CALNAME:Associazione Ambientalista Eugenio Rosmann Monfalcone
X-ORIGINAL-URL:https://ambientalistimonfalcone.it
X-WR-CALDESC:Eventi per Associazione Ambientalista Eugenio Rosmann Monfalcone
REFRESH-INTERVAL;VALUE=DURATION:PT1H
X-Robots-Tag:noindex
X-PUBLISHED-TTL:PT1H
BEGIN:VTIMEZONE
TZID:UTC
BEGIN:STANDARD
TZOFFSETFROM:+0000
TZOFFSETTO:+0000
TZNAME:UTC
DTSTART:20180101T000000
END:STANDARD
END:VTIMEZONE
BEGIN:VEVENT
DTSTART;TZID=UTC:20190602T083000
DTEND;TZID=UTC:20190602T123000
DTSTAMP:20260425T014828
CREATED:20190317T091825Z
LAST-MODIFIED:20190601T062123Z
UID:1475-1559464200-1559478600@ambientalistimonfalcone.it
SUMMARY:2 giugno Escursione guidata con guida naturalistica Paolo Utmar
DESCRIPTION:Escursione del 5 maggio rinviata causa pioggia il 2 giugno anticipata alle ore 8.30\, presso il Centro Visite Lago di Pietrarossa\, l’Associazione Ambientalista “Eugenio Rosmann”\, nell’ambito della escursioni di primavera estate 2019\, propone una passeggiata didattica con la guida naturalistica ornitologo Paolo Utmar che condurrà la comitiva al lago di Doberdo a cercare i 6 specie di picchi presenti. Infatti oltre a il picchio verde\, il picchio nero\, il picchio cenerino\, il picchio rosso maggiore\, minore\, è stato di recente osservato anche il picchio rosso mezzano (Dendrocoptes medius). \nRitrovo quindi alle ore 8.30 sempre al Centro visite Lago di Pietrarossa.\nL’escursione di concluderà indicativamente alle ore 12.30\, si consigliano scarpe ed abbigliamento sportivo e un binocolo.
URL:https://ambientalistimonfalcone.it/evento/escursione-guidata-con-guida-naturalistica-paolo-utmar/
LOCATION:centro visite lago di Pietrarossa Monfalcone
ATTACH;FMTTYPE=image/jpeg:https://ambientalistimonfalcone.it/wp-content/uploads/2019/03/54516269_2312704438976460_8251166877569515520_n.jpg
END:VEVENT
BEGIN:VEVENT
DTSTART;TZID=UTC:20190609T093000
DTEND;TZID=UTC:20190609T130000
DTSTAMP:20260425T014828
CREATED:20190317T093500Z
LAST-MODIFIED:20190518T144256Z
UID:1480-1560072600-1560085200@ambientalistimonfalcone.it
SUMMARY:9 giugno - Sulle ali delle libellule con la dott.ssa Costanza Uboni
DESCRIPTION:Anche quest’anno\, l’Associazione Ambientalista “Eugenio Rosmann” propone Domenica 9 giugno\, nell’ambito delle attività del Centro visite del Lago di Pietrarossa\, l’escursione naturalistica accompagnati dall’entomologa dott.ssa Costanza Uboni\, che ha studiato in particolare le libellule. Li cercheremo nell’area umida attorno al Lago di Pietrarossa e nel bosco di Sablici\, un bel bosco a frassino ossifillo che rappresenta uno dei siti più pregiati e ricchi di biodiversità del nostro territorio. Gli odonati sono anche un bioindicatore\, ci segnalano cioè lo stato di salute del nostro ambiente. L’iniziativa dedicata alle libellule era da tempo in programma e siamo particolarmente contenti di essere riusciti finalmente a proporla.\nI ritrovi sono quelli consueti: alle 9.30 al Centro visite Pietrarossa (raggiungibile in auto da Selz di Ronchi dei Legionari\, da via Fornaci\, seguendo le indicazioni per il maneggio Pietrarossa e proseguendo poi su strada bianca fino al sottopasso dell’autostrada).\nLa partecipazione è libera\, l’escursione non presenta difficoltà\, consigliate calzature e abbigliamento sportivo ed eventualmente un binocolo. Il rientro al Centro visite Pietrarossa è previsto per le 13.00 circa.
URL:https://ambientalistimonfalcone.it/evento/19-maggio-sulle-ali-delle-libellule-con-la-dott-ssa-costanza-uboni/
LOCATION:centro visite lago di Pietrarossa Monfalcone
ATTACH;FMTTYPE=image/jpeg:https://ambientalistimonfalcone.it/wp-content/uploads/2019/03/libellula.jpg
END:VEVENT
BEGIN:VEVENT
DTSTART;TZID=UTC:20190612T183000
DTEND;TZID=UTC:20190612T203000
DTSTAMP:20260425T014828
CREATED:20190605T195734Z
LAST-MODIFIED:20190610T030746Z
UID:1617-1560364200-1560371400@ambientalistimonfalcone.it
SUMMARY:12 giugno-Camminata di Sant'Antonio dalla Rocca ai Castellieri
DESCRIPTION:L’associazione ambientalista Eugenio Rosmann in occasione della inaugurazione della festa dei Sant’Ambrogio di Monfalcone organizza una camminata per far conoscere i luoghi delle colline carsiche del Monfalconese. Partenza con ritrovo da sotto il campanile di via Sant’Ambrogio alle ore 18.30 per dirigerci alla Rocca di Monfalcone ed per passare ai castellieri delle Forcate ed arrivare alla Gradiscata e il Zochet per poi rientrare alla partenza con brindisi finale alle ore 20 circa.\nSono consigliate scarpe ed abbigliamento sportivo.\nCapogita Claudio Siniscalchi
URL:https://ambientalistimonfalcone.it/evento/12-giugno-camminata-di-santantonio-dalla-rocca-ai-castellieri/
LOCATION:via sant’Ambrogio Monfalcone sotto il campanile\, via Sant'Ambrogio\, Monfalcone
ATTACH;FMTTYPE=image/jpeg:https://ambientalistimonfalcone.it/wp-content/uploads/2019/06/screenshot_122.jpg
END:VEVENT
BEGIN:VEVENT
DTSTART;TZID=UTC:20190621T200000
DTEND;TZID=UTC:20190621T220000
DTSTAMP:20260425T014828
CREATED:20190604T184920Z
LAST-MODIFIED:20190604T184920Z
UID:1604-1561147200-1561154400@ambientalistimonfalcone.it
SUMMARY:21 giugno - Camminata con Il tramonto più lungo dell'anno
DESCRIPTION:Escursione nella giornata del solstizio d’estate con partenza alle ore 20 dalla piazza della Repubblica 25 di Monfalcone fino al monte Kosic. \n\n\nIl Tramonto per la giornata del 21 giugno è previsto alle ore 20.59. \n\n\nSi consigliano scarpe comode ed abbigliamento sportivo e un binocolo. \n\n\nCapo gita Claudio Siniscalchi.\n\n\n \n\n\nDopo la camminata per chi volesse abbiamo organizzato con il Brocante di Monfalcone un menù a tema con birra o bibita e piatto freddo 10 euro\, per chi è interessato si chiede di confermare la presenza entro 2 giorni prima con mail ambientalistimonfalcone@gmail.com o anche con sms o Whatsapp al cell. 3356660843 grazie.
URL:https://ambientalistimonfalcone.it/evento/21-giugno-camminata-con-il-tramonto-piu-lungo-dellanno/
LOCATION:comune di Monfalcone Piazza della Repubblica 25\, piazza della Repubblica 25\, Monfalcone\, Gorizia\, 34074\, Italia
ATTACH;FMTTYPE=image/jpeg:https://ambientalistimonfalcone.it/wp-content/uploads/2019/06/tramontocarsico.jpg
END:VEVENT
BEGIN:VEVENT
DTSTART;TZID=UTC:20190629T110000
DTEND;TZID=UTC:20190629T170000
DTSTAMP:20260425T014828
CREATED:20190610T184916Z
LAST-MODIFIED:20190623T061718Z
UID:1632-1561806000-1561827600@ambientalistimonfalcone.it
SUMMARY:29 Giugno Assemblea annuale della Associazione
DESCRIPTION:Cari Amici\, \ndesideriamo invitarvi ad intervenire alla tradizionale Assemblea dei Soci dell’Associazione Ambientalista “Eugenio Rosmann” che si terrà Sabato 29 giugno2019 (alle ore 05.00 in prima convocazione) e alle ore 11.00 in seconda convocazione presso lanuova Sede in viale San Marco 9 a Monfalcone. \nQuesto l’ordine del giorno: \n\n\nRelazione del presidente sulle attività svolte nel 2018 e relativa votazione \n\n\nLettura e approvazione del bilancio consuntivo 2018 \n\n\nAttività programmatiche per il 2019 \n\n\nAggiornamento dello statuto alla nuova normativa del 3° settore \n\n\nElezione del Consiglio direttivo \n\n\nVarie ed eventuali \n\n\nAlla fine dei lavori ci sarà una bicchierata per festeggiare i nuovi locali della sede. \nCi vediamo! \nCordiali saluti. \nAssociazione Ambientalista “Eugenio Rosmann” \n 
URL:https://ambientalistimonfalcone.it/evento/29-giugno-assemblea-annuale-della-associazione/
LOCATION:viale San Marco 9 Monfalcone\, viale San Marco 9\, Monfalcone\, Italia
ATTACH;FMTTYPE=image/jpeg:https://ambientalistimonfalcone.it/wp-content/uploads/2019/06/screenshot_115.jpg
END:VEVENT
END:VCALENDAR