BEGIN:VCALENDAR
VERSION:2.0
PRODID:-//Associazione Ambientalista Eugenio Rosmann Monfalcone - ECPv6.15.17.1//NONSGML v1.0//EN
CALSCALE:GREGORIAN
METHOD:PUBLISH
X-WR-CALNAME:Associazione Ambientalista Eugenio Rosmann Monfalcone
X-ORIGINAL-URL:https://ambientalistimonfalcone.it
X-WR-CALDESC:Eventi per Associazione Ambientalista Eugenio Rosmann Monfalcone
REFRESH-INTERVAL;VALUE=DURATION:PT1H
X-Robots-Tag:noindex
X-PUBLISHED-TTL:PT1H
BEGIN:VTIMEZONE
TZID:UTC
BEGIN:STANDARD
TZOFFSETFROM:+0000
TZOFFSETTO:+0000
TZNAME:UTC
DTSTART:20180101T000000
END:STANDARD
END:VTIMEZONE
BEGIN:VEVENT
DTSTART;TZID=UTC:20191231T200000
DTEND;TZID=UTC:20200101T140000
DTSTAMP:20260425T122807
CREATED:20191222T220604Z
LAST-MODIFIED:20191222T220604Z
UID:2331-1577822400-1577887200@ambientalistimonfalcone.it
SUMMARY:Ultimo dell'anno al Centro Visite Pietrarossa Monfalcone
DESCRIPTION:Non sai cosa fare con gli amici il 31 dicembre? In montagna non hai trovato un posto carino perché è tutto pieno? Perfetto vieni con noi la sera dell’ultimo dell’anno al centro visite lago di Pietrarossa di Monfalcone\, alle ore 20\, ti divertirai sicuramente abbiamo in programma una passeggiata sul monte Kosic per aperitivo\, una spaghettata aglio olio e peperoncino\, panettone e brindisi finale sulla Rocca di Monfalcone con vista mozzafiato sulla pianura e il Golfo di Trieste con le luci di tutta la Venezia Giulia. \n\n\nE’ richiesta la prenotazione ed obbligatorio portare con se una bottiglietta per il brindisi oltre ad abbigliamento e scarpe sportive\, una luce per camminare di sera e soprattutto essere amanti della natura\, per contatti 3392640850. \n\n\nRitrovo al centro visite Pietrarossa alla ore 20 del 31.
URL:https://ambientalistimonfalcone.it/evento/ultimo-dellanno-al-centro-visite-pietrarossa-monfalcone/
LOCATION:centro visite lago di Pietrarossa Monfalcone
ATTACH;FMTTYPE=image/jpeg:https://ambientalistimonfalcone.it/wp-content/uploads/2019/12/79641508_2522392884674280_3385017180864118784_n.jpg
END:VEVENT
BEGIN:VEVENT
DTSTART;TZID=UTC:20200105T170000
DTEND;TZID=UTC:20200105T203000
DTSTAMP:20260425T122807
CREATED:20200102T215111Z
LAST-MODIFIED:20200102T215142Z
UID:2354-1578243600-1578256200@ambientalistimonfalcone.it
SUMMARY:Dal Centro Pietrarossa alle seime di Vermegliano
DESCRIPTION:L’associazione ambientalista Eugenio Rosmann di Monfalcone organizza per il 5 gennaio alle ore 17.00 una camminata per andare a vedere le seime (fuochi epifanici) di Vermegliano frazione di Ronchi dei Legionari.\nRichiesto abbigliamento sportivo\, scarpe sportive e lampada per camminata notturna.\nIl ritrovo é alle ore 17.00 centro visite lago di Pietrarossa di Monfalcone.\nCome percorso faremo le colline carsiche delle Praderie per arrivare a vedere dall’alto i fuochi nella pianura fino a giungere a quello di Vermegliano. \nL’orario del rientro al centro visite lago di Pietrarossa di Monfalcone è previsto alle ore 20.30\, ci sarà un momento di rifocillamento con panettone\, per informazioni chiamare il cell.3392640850.
URL:https://ambientalistimonfalcone.it/evento/dal-centro-pietrarossa-alle-seime-di-vermegliano/
LOCATION:centro visite lago di Pietrarossa Monfalcone
ATTACH;FMTTYPE=image/jpeg:https://ambientalistimonfalcone.it/wp-content/uploads/2020/01/seima.jpg
END:VEVENT
BEGIN:VEVENT
DTSTART;TZID=UTC:20200119T093000
DTEND;TZID=UTC:20200119T160000
DTSTAMP:20260425T122807
CREATED:20200114T181152Z
LAST-MODIFIED:20200114T190018Z
UID:2389-1579426200-1579449600@ambientalistimonfalcone.it
SUMMARY:Dal Centro visite Pietrarossa al sentiero degli angeli di Opacchiasella (SLO)
DESCRIPTION:L’Associazione Ambientalista Eugenio Rosmann di Monfalcone organizza per Domenica 19 gennaio una escursione dal Centro visite Pietrarossa al sentiero degli angeli dei viandanti a Opatje Selo (Opacchiasella). Il ritrovo alle ore 9.30 al centro Visite Pietrarossa Monfalcone per recarci con mezzi propri fino alla località Berne presso il comune di Doberdò\, per poi risalire lungo il sentiero che porta al paese di Opacchiasella (Opatje Selo)\, in Slovenia e precisamente nella frazione del comune di Merna-Castagnevizza. Percorreremo il sentiero degli angeli\, protettori dei viandanti\, celebrati nel capitello opera dello scultore Semolic eseguito nel 1988 (https://www.youtube.com/watch?v=rcoccICm2FM). Raggiungeremo la chiesa Župnija Opatje selo\, il cui campanile con il caratteristico stile aquileiese evidenzia il segno identificativo dell’appartenenza ecclesiastica della zona. Faremo meno di 200 metri di dislivello e circa 9 km e attraverseremo Opacchiasella per arrivare a Novavilla\, per poi rientrare a Berne passando in località Bonetti. Lungo l’itinerario vedremo anche la torre di Razgledni.Si consigliano scarpe ed abbigliamento sportivo\, merenda al sacco oltre che binocolo perché si confida nel bel tempo per vedere sia l’arco alpino e sia l’Istria fino a Punta Salvore. \nPer ulteriori informazioni:\nhttps://it.wikipedia.org/wiki/Opacchiasella\nhttps://www.youtube.com/watch?v=rcoccICm2FM
URL:https://ambientalistimonfalcone.it/evento/dal-centro-visite-pietrarossa-al-sentiero-degli-angeli-di-opacchiasella-slo/
LOCATION:centro visite lago di Pietrarossa Monfalcone
ATTACH;FMTTYPE=image/jpeg:https://ambientalistimonfalcone.it/wp-content/uploads/2020/01/angeli-di-Opachiasella-1.jpg
END:VEVENT
BEGIN:VEVENT
DTSTART;TZID=UTC:20200124T160000
DTEND;TZID=UTC:20200124T190000
DTSTAMP:20260425T122807
CREATED:20200114T180700Z
LAST-MODIFIED:20200114T191139Z
UID:2385-1579881600-1579892400@ambientalistimonfalcone.it
SUMMARY:Verso quale futuro dopo la fine del carbone
DESCRIPTION:Verso quale futuro dopo la fine del carbone della centrale di Monfalcone. Il dibattito organizzato in data venerdì 24 gennaio alle ore 16\, dalla Consulta ambiente di Monfalcone presso la biblioteca di via Ceriani\, 10\, è aperto a tutti.\nSono invitati presso la Biblioteca di Monfalcone alla Consulta ambiente tutti i cittadini interessati e le associazioni del territorio. \nQuesto il link della progetto della Centrale a Gas che passato l’iter del controllo amministrativo della documentazione dovrebbe avere 60 gg. per le osservazioni e la successiva autorizzazione:\nhttps://va.minambiente.it/it-IT/Oggetti/Documentazione/7296/10555
URL:https://ambientalistimonfalcone.it/evento/verso-quale-futuro-dopo-la-fine-del-carbone/
LOCATION:Biblioteca Monfalcone via Ceriani\, 10\, via Ceriani\, 10\, Monfalcone\, Italia\, 34074\, Italia
ATTACH;FMTTYPE=image/jpeg:https://ambientalistimonfalcone.it/wp-content/uploads/2020/01/a2a_monfalcone_centrale19_Thumb_HighlightCenter209451.jpg
END:VEVENT
END:VCALENDAR