BEGIN:VCALENDAR
VERSION:2.0
PRODID:-//Associazione Ambientalista Eugenio Rosmann Monfalcone - ECPv6.15.17.1//NONSGML v1.0//EN
CALSCALE:GREGORIAN
METHOD:PUBLISH
X-ORIGINAL-URL:https://ambientalistimonfalcone.it
X-WR-CALDESC:Eventi per Associazione Ambientalista Eugenio Rosmann Monfalcone
REFRESH-INTERVAL;VALUE=DURATION:PT1H
X-Robots-Tag:noindex
X-PUBLISHED-TTL:PT1H
BEGIN:VTIMEZONE
TZID:UTC
BEGIN:STANDARD
TZOFFSETFROM:+0000
TZOFFSETTO:+0000
TZNAME:UTC
DTSTART:20190101T000000
END:STANDARD
END:VTIMEZONE
BEGIN:VEVENT
DTSTART;TZID=UTC:20200301T093000
DTEND;TZID=UTC:20200301T123000
DTSTAMP:20260425T152135
CREATED:20200209T165556Z
LAST-MODIFIED:20200210T092016Z
UID:2423-1583055000-1583065800@ambientalistimonfalcone.it
SUMMARY:Dalla sede di Viale San Marco 9 Monfalcone in bicicletta allo Schievetti-Cavana
DESCRIPTION:1 marzo ore 9.30 sede di viale San Marco 9 Monfalcone – Escursione in bicicletta allo Schiavetti – Cavana con l’ornitologo Paolo Utmar. Si chiede la bicicletta abbigliamento  scarpe sportivi un binocolo. Ritrovo  per chi volesse venire in macchina ore 10 davanti alla olla in via delle Risorgive davanti al ingresso del biotopo dello Schivetti prima della azienda Iskralegno.
URL:https://ambientalistimonfalcone.it/evento/dalla-sede-di-viale-san-marco-9-monfalcone-in-bicicletta-allo-schievetti-cavana/
LOCATION:casa associazioni viale San Marco 9 Monfalcone\, viale San Marco 9\, Monfalcone\, Gorizia\, 34074\, Italia
ATTACH;FMTTYPE=image/jpeg:https://ambientalistimonfalcone.it/wp-content/uploads/2020/02/screenshot_202.jpg
END:VEVENT
BEGIN:VEVENT
DTSTART;TZID=UTC:20200308T093000
DTEND;TZID=UTC:20200308T123000
DTSTAMP:20260425T152135
CREATED:20200209T165940Z
LAST-MODIFIED:20200209T172309Z
UID:2426-1583659800-1583670600@ambientalistimonfalcone.it
SUMMARY:Su Cima del Carso quota 121 assieme alla dott.ssa Asia Del Core per i cambiamenti climatici
DESCRIPTION:8 marzo ore 9.30 Cento visite per camminare a Cima del Carso quota 121 assieme alla dott.ssa Asia Del Core sui cambiamenti climatici: una relazione su cause\, effetti e soluzioni all’inquinamento da anidride carbonica. \nSi consigliano scarpe ed abbigliamento sportivo\, un binocolo e se volete bastoncini da nordic walking. \n 
URL:https://ambientalistimonfalcone.it/evento/su-cima-del-carso-quota-121-assieme-alla-dott-ssa-asia-del-core-per-i-cambiamenti-climatici/
LOCATION:centro visite lago di Pietrarossa Monfalcone
ATTACH;FMTTYPE=image/jpeg:https://ambientalistimonfalcone.it/wp-content/uploads/2020/02/49213490_2064382296943695_5382030497939456000_o.jpg
END:VEVENT
BEGIN:VEVENT
DTSTART;TZID=UTC:20200315T093000
DTEND;TZID=UTC:20200315T160000
DTSTAMP:20260425T152135
CREATED:20200209T171253Z
LAST-MODIFIED:20200404T200047Z
UID:2429-1584264600-1584288000@ambientalistimonfalcone.it
SUMMARY:Camminata alla ricerca delle risorgive dei laghi Pietrarossa e Doberdò e fine del corso dei disegno naturalistico
DESCRIPTION:Si comunica che tutte le attività della associazione sono sospese causa l’emergenza Covid-19 . Si riprenderà a fine emergenza tutta l’attività rivista e riprogrammata … seguite il sito ed anche Facebook. Grazie e rigurdatevi…. restate a casa!!! \n15 marzo ore 9.30 Cento visite – Escursione alle risorgive del lago di Pietrarossa e Doberdò con l’ornitologo Paolo Utmar e conclusione del primo corso di acquerello naturalistico con l’insegnante Elena Perco con risotto preparato da un noto chef monfalconese con i prodotti della Azienda biologica la Dulina di San Canzian presentata dalla dott.ssa Elisa Marchesan che ci parlerà del rapporto tra cibo e ambiente. \nAlla escursione alle risorgive del lago di Pietrarossa e Doberdò con l’ornitologo Paolo Utmar si prevede il numero massimo di 30 persone con prenotazione obbligatoria telefonando al 3392640850\, o con mail ambientalistimonfalcone@gmail.com\, avranno la priorità agli iscritti della Associazione. \n 
URL:https://ambientalistimonfalcone.it/evento/camminata-alla-ricerca-delle-risorgive-dei-laghi-pietrarossa-e-doberdo-e-fine-del-corso-dei-disegno-naturalistico/
LOCATION:centro visite lago di Pietrarossa Monfalcone
ATTACH;FMTTYPE=image/jpeg:https://ambientalistimonfalcone.it/wp-content/uploads/2020/02/index.jpg
END:VEVENT
BEGIN:VEVENT
DTSTART;TZID=UTC:20200329T093000
DTEND;TZID=UTC:20200329T123000
DTSTAMP:20260425T152135
CREATED:20200209T172219Z
LAST-MODIFIED:20200404T200202Z
UID:2433-1585474200-1585485000@ambientalistimonfalcone.it
SUMMARY:Alla scoperta dei corsi d'acqua del Lisert
DESCRIPTION:Si comunica che tutte le attività della associazione sono sospese causa l’emergenza Covid-19 . Si riprenderà a fine emergenza tutta l’attività rivista e riprogrammata … seguite il sito ed anche Facebook. Grazie e rigurdatevi…. restate a casa!!! \n29 marzo ore 9.30 parcheggio terme Romane Monfalcone – Escursione al Lisert con l’ornitologo Paolo Utmar per vedere i corsi d’acqua del Moschenizza\, Locovaz congiungendosi alle foci del Timavo che dai Laghi di Pietrarossa e Doberdò scendono in mare Adriatico. \nSi consigliano scarpe ed abbigliamento sportivo\, un binocolo e se volete bastoncini da nordic walking.
URL:https://ambientalistimonfalcone.it/evento/alla-scoperta-dei-corsi-dacqua-del-lisert/
LOCATION:Terme Romane a Monfalcone\, Via Timavo 74/M\, Monfalcone (GO)\, 34074\, Italia
ATTACH;FMTTYPE=image/jpeg:https://ambientalistimonfalcone.it/wp-content/uploads/2020/02/unnamed-1.jpg
END:VEVENT
END:VCALENDAR