BEGIN:VCALENDAR
VERSION:2.0
PRODID:-//Associazione Ambientalista Eugenio Rosmann Monfalcone - ECPv6.15.17.1//NONSGML v1.0//EN
CALSCALE:GREGORIAN
METHOD:PUBLISH
X-WR-CALNAME:Associazione Ambientalista Eugenio Rosmann Monfalcone
X-ORIGINAL-URL:https://ambientalistimonfalcone.it
X-WR-CALDESC:Eventi per Associazione Ambientalista Eugenio Rosmann Monfalcone
REFRESH-INTERVAL;VALUE=DURATION:PT1H
X-Robots-Tag:noindex
X-PUBLISHED-TTL:PT1H
BEGIN:VTIMEZONE
TZID:UTC
BEGIN:STANDARD
TZOFFSETFROM:+0000
TZOFFSETTO:+0000
TZNAME:UTC
DTSTART:20190101T000000
END:STANDARD
END:VTIMEZONE
BEGIN:VEVENT
DTSTART;TZID=UTC:20200725T180000
DTEND;TZID=UTC:20200806T190000
DTSTAMP:20260425T205427
CREATED:20200724T155417Z
LAST-MODIFIED:20200724T155417Z
UID:5000-1595700000-1596740400@ambientalistimonfalcone.it
SUMMARY:Acquerelli e suggestioni: Lisert
DESCRIPTION:Dal 25 luglio alle 18 l’Angolo di Maritani del caffè Carducci di via duca d’Aosta 83 a Monfalcone\, con la collaborazione dell’Associazione ambientalista Eugenio Rosmann\, ospita l’opening dell’esposizione intitolata “Acquerelli e suggestioni: Lisert” di Paola Barban. Presenta i suoi acquerelli e le foto dell’ornitologo Paolo Utmar\, elaborati assieme per predisporre e pubblicare la mappa delle aree umide costiere di Monfalcone. La mappa e le foto vogliono riassumere un’area così poco conosciuta ed a pochi passi dal centro di Monfalcone. L’autrice assieme all’ornitologo pongono dei quesiti ambientali sulla storia dell’industria.
URL:https://ambientalistimonfalcone.it/evento/acquerelli-e-suggestioni-lisert/
LOCATION:Caffè Carducci\, via duca d'Aosta 83\, Monfalcone\, Gorizia\, 34074\, Italia
ATTACH;FMTTYPE=image/jpeg:https://ambientalistimonfalcone.it/wp-content/uploads/2020/07/lisert.jpg
END:VEVENT
BEGIN:VEVENT
DTSTART;TZID=UTC:20200730T183000
DTEND;TZID=UTC:20200730T183000
DTSTAMP:20260425T205427
CREATED:20200708T195535Z
LAST-MODIFIED:20200708T195535Z
UID:4711-1596133800-1596133800@ambientalistimonfalcone.it
SUMMARY:Aspettando GEOgrafie - Il Carso di Monfalcone
DESCRIPTION:Giovedì 30 – ore 18.30 \nPiazzetta Unità d’Italia Monfalcone \nAspettando Geografie – Il Carso di Monfalcone \nClaudio Siniscalchi\, presidente dell’Associazione Ambientalista “Eugenio Rosmann”\, illustrerà le caratteristiche del Parco Comunale del Carso Monfalconese e del Centro Visite del Lago di Pietrarossa. Si soffermerà in particolare sul concorso\, promosso dall’Associazione e giunto quest’anno alla quarta edizione\, che premia le migliori tesi di laurea dedicate al Carso.\nA seguire\, Paolo Utmar\, ornitologo e guida naturalistica\, parlerà dell’avifauna e delle sue modifiche al variare dell’ambiente carsico. Tratterà inoltre di fauna selvatica e di vegetazione invasiva.\nIn chiusura si affronterà la situazione della Riserva Naturale dei Laghi di Doberdò e Pietrarossa\, che interessa i comuni di Doberdò del Lago\, Monfalcone e Ronchi dei Legionari\, e dell’area del Lisert. \nModera Roberto Covaz. \nIngresso libero \nIn caso di maltempo l’attività sarà sospesa.\nNon è necessaria la prenotazione\, l’accesso sarà contingentato fino ad esaurimento dei posti a disposizione.
URL:https://ambientalistimonfalcone.it/evento/aspettando-geografie-il-carso-di-monfalcone/
ATTACH;FMTTYPE=image/jpeg:https://ambientalistimonfalcone.it/wp-content/uploads/2020/07/utmar.jpg
END:VEVENT
END:VCALENDAR