BEGIN:VCALENDAR
VERSION:2.0
PRODID:-//Associazione Ambientalista Eugenio Rosmann Monfalcone - ECPv6.15.17.1//NONSGML v1.0//EN
CALSCALE:GREGORIAN
METHOD:PUBLISH
X-WR-CALNAME:Associazione Ambientalista Eugenio Rosmann Monfalcone
X-ORIGINAL-URL:https://ambientalistimonfalcone.it
X-WR-CALDESC:Eventi per Associazione Ambientalista Eugenio Rosmann Monfalcone
REFRESH-INTERVAL;VALUE=DURATION:PT1H
X-Robots-Tag:noindex
X-PUBLISHED-TTL:PT1H
BEGIN:VTIMEZONE
TZID:UTC
BEGIN:STANDARD
TZOFFSETFROM:+0000
TZOFFSETTO:+0000
TZNAME:UTC
DTSTART:20190101T000000
END:STANDARD
END:VTIMEZONE
BEGIN:VEVENT
DTSTART;TZID=UTC:20200920T093000
DTEND;TZID=UTC:20200920T130000
DTSTAMP:20260425T235313
CREATED:20200905T162808Z
LAST-MODIFIED:20200912T110706Z
UID:5109-1600594200-1600606800@ambientalistimonfalcone.it
SUMMARY:Escursione sul Carso monfalconese
DESCRIPTION:Domenica 20 settembre ore 9.30 ritrovo centro visite Pietrarossa escursione vedrà l’ornitologo Paolo Utmar e la guida naturalistica Nicoletta Perco condurre la comitiva sul Carso per raggiungere il lago di Pietrarossa e quello di Doberdò. Il rientro è previsto per le ore 12.30 circa.\nVariazioni in caso di maltempo e comunicazioni varie delle date saranno fornite sul sito e la pagina facebook dell’associazione .\nSi consigliano scarpe ed abbigliamento sportivo\, un binocolo e un repellente per le zanzare.\nCausa emergenza Covid 19\, per partecipare alle escursioni chiederemo la prenotazione obbligatoria\, per raggiungere un massimo 40 persone.\nPotete iscrivervi via mail a ambientalistimonfalcone@gmail.com o telefonando ed anche via whatsapp al 3392640850.\nPriorità agli iscritti dell’Associazione. dell’associazione . \nAl rientro\, alle 12.30 circa\, ci sarà un piccolo aperitivo in musica\, con la partecipazione di Remigio Simeoni\, ingresso libero. \nFoto: Remigio Simeoni \n 
URL:https://ambientalistimonfalcone.it/evento/escursione-sul-carso-monfalconese-con-lornitologo-paolo-utmar/
LOCATION:centro visite lago di Pietrarossa Monfalcone
ATTACH;FMTTYPE=image/jpeg:https://ambientalistimonfalcone.it/wp-content/uploads/2020/09/117705368_3316864405019252_8372787228107462688_n.jpg
END:VEVENT
END:VCALENDAR