BEGIN:VCALENDAR
VERSION:2.0
PRODID:-//Associazione Ambientalista Eugenio Rosmann Monfalcone - ECPv6.15.17.1//NONSGML v1.0//EN
CALSCALE:GREGORIAN
METHOD:PUBLISH
X-WR-CALNAME:Associazione Ambientalista Eugenio Rosmann Monfalcone
X-ORIGINAL-URL:https://ambientalistimonfalcone.it
X-WR-CALDESC:Eventi per Associazione Ambientalista Eugenio Rosmann Monfalcone
REFRESH-INTERVAL;VALUE=DURATION:PT1H
X-Robots-Tag:noindex
X-PUBLISHED-TTL:PT1H
BEGIN:VTIMEZONE
TZID:UTC
BEGIN:STANDARD
TZOFFSETFROM:+0000
TZOFFSETTO:+0000
TZNAME:UTC
DTSTART:20190101T000000
END:STANDARD
END:VTIMEZONE
BEGIN:VEVENT
DTSTART;TZID=UTC:20201004T093000
DTEND;TZID=UTC:20201004T180000
DTSTAMP:20260426T011919
CREATED:20200924T171712Z
LAST-MODIFIED:20200924T182726Z
UID:5216-1601803800-1601834400@ambientalistimonfalcone.it
SUMMARY:Camminata sul Carso Monfalconese dalla Rocca agli archi del Lisert
DESCRIPTION:Domenica 4 ottobre ore 9.30 ritrovo centro visite Pietrarossa\, l’escursione vedrà l’ornitologo Paolo Utmar condurre la comitiva sulle colline del Carso monfalconese\, dalla Rocca fino agli archi del Lisert. Il rientro è previsto per le ore 12.30 circa. Al rientro\, alle 12.30 circa\, ci sarà una pizzata con musica\, con la partecipazione del gruppo di Flamenco Las Mujeres\, Remigio Simeoni and Friends e il Coro del CAI di Monfalcone\, per musica e danza l’ingresso libero è per tutti e durerà fino alle 18.00.\nVariazioni in caso di maltempo e comunicazioni varie delle date saranno fornite sul sito e la pagina facebook dell’associazione.\nSi consigliano scarpe ed abbigliamento sportivo\, un binocolo e un repellente per le zanzare.\nCausa emergenza Covid 19\, per partecipare alle escursioni chiederemo la prenotazione obbligatoria\, per raggiungere un massimo 40 persone.\nPer l’escursione potete iscrivervi via mail a ambientalistimonfalcone@gmail.com o telefonando ed anche via whatsapp al 3392640850.\nPriorità agli iscritti dell’Associazione. \nFoto: Paolo Utmar\, il Gruppo Las Mujeres di flamenco\, Remigio Simeoni and Friends il Coro del Cai di Monfalcone
URL:https://ambientalistimonfalcone.it/evento/camminata-in-carso-monfalconese-dalla-rocca-agli-archi-del-lisert/
LOCATION:centro visite lago di Pietrarossa Monfalcone
ATTACH;FMTTYPE=image/jpeg:https://ambientalistimonfalcone.it/wp-content/uploads/2020/09/images.jpeg
END:VEVENT
BEGIN:VEVENT
DTSTART;TZID=UTC:20201011T093000
DTEND;TZID=UTC:20201011T123000
DTSTAMP:20260426T011919
CREATED:20200912T105051Z
LAST-MODIFIED:20201009T180645Z
UID:5137-1602408600-1602419400@ambientalistimonfalcone.it
SUMMARY:Escursione a Prosecco Trieste con gli amici di SOS Carso
DESCRIPTION:Domenica 1 novembre  ore 9.30 (escursione rinviata causa mal tempo dal 27 settembre) ritrovo davanti al Monumento ai Caduti di Prosecco\, bivio strada 202 Trieste: l’escursione vedrà il vice presidente di SOS Carso\, Furio Alessi\, condurre la comitiva sul Carso presso alcune grotte e percorsi ripuliti dalla suo gruppo. Il rientro è previsto per le ore 12.30 circa sempre a Prosecco. \nVariazioni in caso di maltempo e comunicazioni varie delle date saranno fornite sul sito e la pagina facebook dell’associazione .\nSi consigliano scarpe ed abbigliamento sportivo\, un binocolo e un repellente per le zanzare.\nCausa emergenza Covid 19\, per partecipare alle escursioni chiederemo la prenotazione obbligatoria\, per raggiungere un massimo 20 persone.\nPotete iscrivervi via mail a ambientalistimonfalcone@gmail.com o telefonando ed anche via whatsapp al 3392640850.\nPriorità agli iscritti dell’Associazione. \nL’escursione è quella organizzata in data 27 settembre ma spostata causa mal tempo ….
URL:https://ambientalistimonfalcone.it/evento/escursione-a-prosecco-trieste-con-gli-amici-di-sos-carso/
LOCATION:Monumento ai Caduti di Prosecco\, bivio strada 202 Trieste\, bivio strada 202 Prosecco Trieste\, Prosecco Trieste\, Italia
ATTACH;FMTTYPE=image/jpeg:https://ambientalistimonfalcone.it/wp-content/uploads/2020/09/109898159_2843773885727283_6632534790279758339_o.jpg
END:VEVENT
BEGIN:VEVENT
DTSTART;TZID=UTC:20201025T093000
DTEND;TZID=UTC:20201025T123000
DTSTAMP:20260426T011919
CREATED:20201012T142732Z
LAST-MODIFIED:20201012T191742Z
UID:5267-1603618200-1603629000@ambientalistimonfalcone.it
SUMMARY:25 ottobre camminata san Martino del Carso
DESCRIPTION:Domenica 25 ottobre ore 9.30 ritrovo centro san Martino del Carso davanti la chiesa\, Via Bosco Cappuccio\, 4\, 34078 San Martino del Carso GO\, l’escursione vedrà l’ornitologo Paolo Utmar condurre la comitiva sulle colline del Carso sopra l’Isonzo. Il rientro è previsto per le ore 12.30 circa. \nVariazioni in caso di maltempo e comunicazioni varie delle date saranno fornite sul sito e la pagina facebook dell’associazione.\nSi consigliano scarpe ed abbigliamento sportivo\, un binocolo e un repellente per le zanzare/zecche.\nCausa emergenza Covid 19\, per partecipare alle escursioni chiederemo la prenotazione obbligatoria\, per raggiungere un massimo 40 persone.\nPer l’escursione potete iscrivervi via mail a ambientalistimonfalcone@gmail.com o telefonando ed anche via whatsapp al 3392640850.\nPriorità agli iscritti dell’Associazione. \nFoto campanile Chiesa di San Martino del Carso. 
URL:https://ambientalistimonfalcone.it/evento/25-ottobre-camminata-san-martino-del-carso/
LOCATION:San Martino del Carso – chiesa\, Via Bosco Cappuccio\, 4\, San Martino del Carso\, 34078\, Italia
ATTACH;FMTTYPE=image/jpeg:https://ambientalistimonfalcone.it/wp-content/uploads/2020/10/83981605_2549810871932481_9160313026367193088_n.jpg
END:VEVENT
END:VCALENDAR