BEGIN:VCALENDAR
VERSION:2.0
PRODID:-//Associazione Ambientalista Eugenio Rosmann Monfalcone - ECPv6.15.17.1//NONSGML v1.0//EN
CALSCALE:GREGORIAN
METHOD:PUBLISH
X-ORIGINAL-URL:https://ambientalistimonfalcone.it
X-WR-CALDESC:Eventi per Associazione Ambientalista Eugenio Rosmann Monfalcone
REFRESH-INTERVAL;VALUE=DURATION:PT1H
X-Robots-Tag:noindex
X-PUBLISHED-TTL:PT1H
BEGIN:VTIMEZONE
TZID:UTC
BEGIN:STANDARD
TZOFFSETFROM:+0000
TZOFFSETTO:+0000
TZNAME:UTC
DTSTART:20190101T000000
END:STANDARD
END:VTIMEZONE
BEGIN:VEVENT
DTSTART;TZID=UTC:20201108T093000
DTEND;TZID=UTC:20201108T123000
DTSTAMP:20260426T024238
CREATED:20201101T192854Z
LAST-MODIFIED:20201101T192855Z
UID:5295-1604827800-1604838600@ambientalistimonfalcone.it
SUMMARY:Attività motoria all'aperto a Fiumicello con Paolo Utmar e il suo cavallo
DESCRIPTION:Domenica 8 novembre  ore 9.30  ritrovo davanti alla chiesa di Fiumicello con Paolo Utmar e il suo cavallo . Il rientro è previsto per le ore 12.30 circa. \nVariazioni in caso di maltempo e comunicazioni varie delle date saranno fornite sul sito e la pagina facebook dell’associazione .\nSi consigliano scarpe ed abbigliamento sportivo\, un binocolo e un repellente per le zanzare.\nCausa emergenza Covid 19\, per partecipare alle escursioni chiederemo la prenotazione obbligatoria\, per raggiungere un massimo 20 persone.\nPotete iscrivervi via mail a ambientalistimonfalcone@gmail.com o telefonando ed anche via whatsapp al 3392640850.\nPriorità agli iscritti dell’Associazione. \nFoto chiesa San Valentino a Fiumicello luogo ritrovo
URL:https://ambientalistimonfalcone.it/evento/attivita-motoria-allaperto-a-fiumicello-con-paolo-utmar-e-il-suo-cavallo/
ATTACH;FMTTYPE=image/jpeg:https://ambientalistimonfalcone.it/wp-content/uploads/2020/11/isonzo-1.jpg
END:VEVENT
END:VCALENDAR