BEGIN:VCALENDAR
VERSION:2.0
PRODID:-//Associazione Ambientalista Eugenio Rosmann Monfalcone - ECPv6.15.17.1//NONSGML v1.0//EN
CALSCALE:GREGORIAN
METHOD:PUBLISH
X-ORIGINAL-URL:https://ambientalistimonfalcone.it
X-WR-CALDESC:Eventi per Associazione Ambientalista Eugenio Rosmann Monfalcone
REFRESH-INTERVAL;VALUE=DURATION:PT1H
X-Robots-Tag:noindex
X-PUBLISHED-TTL:PT1H
BEGIN:VTIMEZONE
TZID:UTC
BEGIN:STANDARD
TZOFFSETFROM:+0000
TZOFFSETTO:+0000
TZNAME:UTC
DTSTART:20190101T000000
END:STANDARD
END:VTIMEZONE
BEGIN:VEVENT
DTSTART;TZID=UTC:20201202T080000
DTEND;TZID=UTC:20201220T235900
DTSTAMP:20260426T040935
CREATED:20201203T063431Z
LAST-MODIFIED:20201203T063431Z
UID:5370-1606896000-1608508740@ambientalistimonfalcone.it
SUMMARY:PROROGA DEI BANDI AMBIENTALI FINO AL 20 DICEMBRE 2020
DESCRIPTION:Cari amici\nVisto il permanere delle limitazioni anti-Covid\, l’Associazione ambientalista Eugenio Rosmann comunica che il termine per l’invio delle tesi di laurea per la IV edizione del Premio Eugenio Rosmann è prorogato al giorno 20 dicembre 2020.\nAnche la consegna dei premi è rinviata e si terrà non appena lo permetteranno le norme anti-Covid.\nLa decisione è nata visto la ridotta mobilità e soprattutto la speranza di vederci di persona!\nQui trovate i bandi aggiornati con la data del 20 dicembre 2020:\n1)) Per i premi di laurea su tesi ambientali:\nhttp://ambientalistimonfalcone.it/…/Bando-di-concorso-E…\n2) Per il premio Populus alba alle pubbliche amministrazioni meritevoli nel settore ambientale:\nhttp://ambientalistimonfalcone.it/…/populus-alba-2020… \nMostra meno
URL:https://ambientalistimonfalcone.it/evento/proroga-dei-bandi-ambientali-fino-al-20-dicembre-2020/
LOCATION:viale San Marco 9 Monfalcone\, viale San Marco 9\, Monfalcone\, Italia
END:VEVENT
BEGIN:VEVENT
DTSTART;TZID=UTC:20201213T093000
DTEND;TZID=UTC:20201213T123000
DTSTAMP:20260426T040935
CREATED:20201108T182744Z
LAST-MODIFIED:20201206T152000Z
UID:5308-1607851800-1607862600@ambientalistimonfalcone.it
SUMMARY:Attività motoria all’aperto al Lisert/ foce del Timavo a Monfalcone
DESCRIPTION:Domenica 13 dicembre ore 9.30 ritrovo davanti alle Terme Romane di Monfalcone. Il rientro è previsto per le ore 12.30 circa.\nandremo a vedere l’area delle foci del Timavo attualmente Zona Speciale di Conservazione secondo la Direttiva Habitat\, l’area del Sito di Importanza Nazionale del Canneto del Lisert e lo stagno ex Enel.\nVariazioni in caso di maltempo e comunicazioni varie delle date saranno fornite sul sito e la pagina facebook dell’associazione .\nSi consigliano scarpe ed abbigliamento sportivo\, un binocolo e un repellente per le zanzare.\nCausa emergenza Covid 19\, per partecipare alle escursioni chiederemo la prenotazione obbligatoria\, per raggiungere un massimo 20 persone.\nPotete iscrivervi via mail a ambientalistimonfalcone@gmail.com o telefonando ed anche via whatsapp al 3392640850.\nPriorità agli iscritti dell’Associazione.\n\n\nFoto delle Terme Romane dei Monfalcone luogo del ritrovo – Via Timavo\, 74m\, 34074 Monfalcone GO
URL:https://ambientalistimonfalcone.it/evento/attivita-motoria-allaperto-al-lisert-foce-del-timavo-a-monfalcone/
LOCATION:Terme Romane a Monfalcone\, Via Timavo 74/M\, Monfalcone (GO)\, 34074\, Italia
ATTACH;FMTTYPE=image/jpeg:https://ambientalistimonfalcone.it/wp-content/uploads/2020/11/Lisert-Canale-Locavaz-UTMAR.jpg
END:VEVENT
BEGIN:VEVENT
DTSTART;TZID=UTC:20201220T093000
DTEND;TZID=UTC:20201220T130000
DTSTAMP:20260426T040935
CREATED:20201206T152455Z
LAST-MODIFIED:20201206T152455Z
UID:5375-1608456600-1608469200@ambientalistimonfalcone.it
SUMMARY:Attività motoria all'aperto sul Collio a San Floriano
DESCRIPTION:Domenica 20 dicembre ore 9.30 ritrovo in Collio goriziano davanti il ristorante Vogrig in Località Bucuie\, 24\, 34070 Valerisce GO (https://goo.gl/maps/o4HyMNbPq6vZ3M7K7)\, l’escursione vedrà condurre la comitiva sul Collio goriziano. Il rientro è previsto per le ore 13.00 circa.\nVariazioni in caso di maltempo e comunicazioni varie delle date saranno fornite sul sito e la pagina facebook dell’associazione .\nSi consigliano scarpe ed abbigliamento sportivo\, un binocolo e un repellente per le zanzare.\nCausa emergenza Covid 19\, per partecipare alle escursioni chiederemo la prenotazione obbligatoria\, per raggiungere un massimo 20 persone.\nPotete iscrivervi via mail a ambientalistimonfalcone@gmail.com o telefonando ed anche via whatsapp al 3392640850.\nPriorità agli iscritti dell’Associazione.
URL:https://ambientalistimonfalcone.it/evento/attivita-motoria-allaperto-sul-collio-a-san-floriano/
LOCATION:Collio goriziano\, Località Bucuie\, 24\,\, Valerisce - San Floriano del Collio\, 34070\, Italia
ATTACH;FMTTYPE=image/jpeg:https://ambientalistimonfalcone.it/wp-content/uploads/2020/12/Anteprima1.jpg
END:VEVENT
END:VCALENDAR