BEGIN:VCALENDAR
VERSION:2.0
PRODID:-//Associazione Ambientalista Eugenio Rosmann Monfalcone - ECPv6.15.17.1//NONSGML v1.0//EN
CALSCALE:GREGORIAN
METHOD:PUBLISH
X-WR-CALNAME:Associazione Ambientalista Eugenio Rosmann Monfalcone
X-ORIGINAL-URL:https://ambientalistimonfalcone.it
X-WR-CALDESC:Eventi per Associazione Ambientalista Eugenio Rosmann Monfalcone
REFRESH-INTERVAL;VALUE=DURATION:PT1H
X-Robots-Tag:noindex
X-PUBLISHED-TTL:PT1H
BEGIN:VTIMEZONE
TZID:UTC
BEGIN:STANDARD
TZOFFSETFROM:+0000
TZOFFSETTO:+0000
TZNAME:UTC
DTSTART:20200101T000000
END:STANDARD
END:VTIMEZONE
BEGIN:VEVENT
DTSTART;TZID=UTC:20210110T080000
DTEND;TZID=UTC:20210110T130000
DTSTAMP:20260426T052747
CREATED:20201228T121102Z
LAST-MODIFIED:20201228T121102Z
UID:5562-1610265600-1610283600@ambientalistimonfalcone.it
SUMMARY:La camminata dei presepi sul Carso di Monfalcone
DESCRIPTION:Partenza ore 10 dalla piazza della Repubblica di Monfalcone \, ritrovo davanti al Comune al civico n. 8\, per poi procedere a vedere i presepio dietro la Rocca e quello sito davanti al Centro Visite Lago di Pietrarossa realizzati da Aldo Mikleus infine per poi raggiungere l’ultimo presepio sul Monte Cosici.\nIl rientro è previsto per le ore 13.00 circa.\nVariazioni in caso di maltempo e comunicazioni varie delle date saranno fornite sul sito e la pagina facebook dell’associazione .\nSi consigliano scarpe ed abbigliamento sportivo\, un binocolo e un repellente per le zanzare.\nCausa emergenza Covid 19\, per partecipare alle escursioni chiederemo la prenotazione obbligatoria\, per raggiungere un massimo 20 persone.\nPotete iscrivervi via mail a ambientalistimonfalcone@gmail.com o telefonando ed anche via whatsapp al 3392640850.\nPriorità agli iscritti dell’Associazione.
URL:https://ambientalistimonfalcone.it/evento/la-camminata-dei-presepi-sul-carso-di-monfalcone/
LOCATION:Comune di Monfalcone piazza della Repubblica 8\, piazza della Repubblica\, 8\, Monfalcone\, Gorizia\, 34074\, Italia
ATTACH;FMTTYPE=image/jpeg:https://ambientalistimonfalcone.it/wp-content/uploads/2020/12/81004315_197475788076200_3291178776876023808_n.jpg
END:VEVENT
END:VCALENDAR